BEGIN:VCALENDAR
VERSION:2.0
PRODID:-//91.233.84.230//NONSGML kigkonsult.se iCalcreator 2.20//
CALSCALE:GREGORIAN
METHOD:PUBLISH
X-WR-TIMEZONE:UTC
BEGIN:VEVENT
UID:event1282@Nationalparkgemeinde Vöhl am Edersee
DTSTAMP:20260421T120044Z
CATEGORIES:Kirche & Religion
DESCRIPTION:Konfirmation\nKategorie: Kirche & Religion\nICS-Link: https://v
 oehl.eu/index.php?option=com_jem&view=event&id=1282:konfirmation\n
DTSTART:20260426T110000Z
DTEND:20260426T110000Z
LOCATION:Kirche Ederbringhausen\,Orketalstraße 18\,34516 Ederbringhausen\,G
 ermany
SUMMARY:Konfirmation
URL:https://voehl.eu/index.php?option=com_jem&view=event&id=1282:konfirmati
 on
END:VEVENT
BEGIN:VEVENT
UID:event1140@Nationalparkgemeinde Vöhl am Edersee
DTSTAMP:20260421T120044Z
CATEGORIES:Feiertage
DESCRIPTION:Volkstrauertag\nKategorie: Feiertage\nICS-Link: https://voehl.e
 u/index.php?option=com_jem&view=event&id=1140:volkstrauertag\n
DTSTART:20261115T110000Z
DTEND:20261115T110000Z
LOCATION:Kirche Ederbringhausen\,Orketalstraße 18\,34516 Ederbringhausen\,G
 ermany
SUMMARY:Volkstrauertag
URL:https://voehl.eu/index.php?option=com_jem&view=event&id=1140:volkstraue
 rtag
END:VEVENT
END:VCALENDAR