BEGIN:VCALENDAR
VERSION:2.0
PRODID:-//91.233.84.230//NONSGML kigkonsult.se iCalcreator 2.20//
CALSCALE:GREGORIAN
METHOD:PUBLISH
X-WR-TIMEZONE:UTC
BEGIN:VEVENT
UID:event1134@Nationalparkgemeinde Vöhl am Edersee
DTSTAMP:20260421T121026Z
CATEGORIES:Kultur
DESCRIPTION:5. Dorffrühstück\nKategorie: Kultur\nICS-Link: https://voehl.eu
 /index.php?option=com_jem&view=event&id=1134:5-dorffruehstueck\n
DTSTART:20261101T090000Z
DTEND:20261101T090000Z
LOCATION:Bürgerhaus 'Alte Schule' Herzhausen\,Ederstraße 12\,34516 Vöhl-Her
 zhausen
SUMMARY:5. Dorffrühstück
URL:https://voehl.eu/index.php?option=com_jem&view=event&id=1134:5-dorffrue
 hstueck
END:VEVENT
BEGIN:VEVENT
UID:event1189@Nationalparkgemeinde Vöhl am Edersee
DTSTAMP:20260421T121026Z
CATEGORIES:Kultur
DESCRIPTION:Der Nikolaus kommt\nKategorie: Kultur\nICS-Link: https://voehl.
 eu/index.php?option=com_jem&view=event&id=1189:der-nikolaus-kommt\n
DTSTART:20261206T160000Z
DTEND:20261206T160000Z
LOCATION:Bürgerhaus 'Alte Schule' Herzhausen\,Ederstraße 12\,34516 Vöhl-Her
 zhausen
SUMMARY:Der Nikolaus kommt
URL:https://voehl.eu/index.php?option=com_jem&view=event&id=1189:der-nikola
 us-kommt
END:VEVENT
END:VCALENDAR