BEGIN:VCALENDAR
VERSION:2.0
PRODID:-//91.233.84.230//NONSGML kigkonsult.se iCalcreator 2.20//
CALSCALE:GREGORIAN
METHOD:PUBLISH
X-WR-TIMEZONE:UTC
BEGIN:VEVENT
UID:event1142@Nationalparkgemeinde Vöhl am Edersee
DTSTAMP:20260421T120943Z
CATEGORIES:Feuerwehren
DESCRIPTION:Herbstputz FW\nKategorie: Feuerwehren\nICS-Link: https://voehl.
 eu/index.php?option=com_jem&view=event&id=1142:herbstputz-fw\n
DTSTART:20261114T100000Z
DTEND:20261114T100000Z
LOCATION:Feuerwehrhaus Dorfitter\,Kirchstraße 10\,34516 Vöhl-Dorfitter\,Ger
 many
SUMMARY:Herbstputz FW
URL:https://voehl.eu/index.php?option=com_jem&view=event&id=1142:herbstputz
 -fw
END:VEVENT
BEGIN:VEVENT
UID:event1127@Nationalparkgemeinde Vöhl am Edersee
DTSTAMP:20260421T120943Z
CATEGORIES:Kultur
DESCRIPTION:Kartoffelfest\nKategorie: Kultur\nICS-Link: https://voehl.eu/in
 dex.php?option=com_jem&view=event&id=1127:kartoffelfest\n
DTSTART:20261003T110000Z
DTEND:20261003T110000Z
LOCATION:Feuerwehrhaus Dorfitter\,Kirchstraße 10\,34516 Vöhl-Dorfitter\,Ger
 many
SUMMARY:Kartoffelfest
URL:https://voehl.eu/index.php?option=com_jem&view=event&id=1127:kartoffelf
 est
END:VEVENT
END:VCALENDAR