BEGIN:VCALENDAR
VERSION:2.0
PRODID:-//91.233.84.230//NONSGML kigkonsult.se iCalcreator 2.20//
CALSCALE:GREGORIAN
METHOD:PUBLISH
X-WR-TIMEZONE:UTC
BEGIN:VEVENT
UID:event1310@Nationalparkgemeinde Vöhl am Edersee
DTSTAMP:20260421T121032Z
CATEGORIES:Sonstige
DESCRIPTION:Baderöffnung & 25 Jahre Förderverein\nKategorie: Sonstige\nICS-
 Link: https://voehl.eu/index.php?option=com_jem&view=event&id=1310:baderoe
 ffnung-25-jahre-foerderverein\n
DTSTART:20260530T140000Z
DTEND:20260530T140000Z
LOCATION:Freibad Marienhagen\,Am Hagen\,34516 Vöhl-Marienhagen
SUMMARY:Baderöffnung & 25 Jahre Förderverein
URL:https://voehl.eu/index.php?option=com_jem&view=event&id=1310:baderoeffn
 ung-25-jahre-foerderverein
END:VEVENT
END:VCALENDAR