BEGIN:VCALENDAR
VERSION:2.0
PRODID:-//91.233.84.230//NONSGML kigkonsult.se iCalcreator 2.20//
CALSCALE:GREGORIAN
METHOD:PUBLISH
X-WR-TIMEZONE:UTC
BEGIN:VEVENT
UID:event1229@Nationalparkgemeinde Vöhl am Edersee
DTSTAMP:20260421T121321Z
CATEGORIES:Sport\, Fitness und Freizeit
DESCRIPTION:Großes Springturnier Reit- und Fahrverein Vöhl\nKategorie: Spor
 t\, Fitness und Freizeit\nICS-Link: https://voehl.eu/index.php?option=com_
 jem&view=event&id=1229:grosses-springturnier-reit-und-fahrverein-voehl\n
DTSTART;VALUE=DATE:20260626
DTEND;VALUE=DATE:20260629
LOCATION:Reitanlage Vöhl\,Am Reitplatz 1\,34516 Vöhl
SUMMARY:Großes Springturnier Reit- und Fahrverein Vöhl
URL:https://voehl.eu/index.php?option=com_jem&view=event&id=1229:grosses-sp
 ringturnier-reit-und-fahrverein-voehl
END:VEVENT
BEGIN:VEVENT
UID:event1116@Nationalparkgemeinde Vöhl am Edersee
DTSTAMP:20260421T121321Z
CATEGORIES:Sport\, Fitness und Freizeit
DESCRIPTION:WBO (Kinder-) und Dressurreiten\nKategorie: Sport\, Fitness und
  Freizeit\nICS-Link: https://voehl.eu/index.php?option=com_jem&view=event&
 id=1116:wbo-kinder-und-dressurreiten\n
DTSTART;VALUE=DATE:20260905
DTEND;VALUE=DATE:20260907
LOCATION:Reitanlage Vöhl\,Am Reitplatz 1\,34516 Vöhl
SUMMARY:WBO (Kinder-) und Dressurreiten
URL:https://voehl.eu/index.php?option=com_jem&view=event&id=1116:wbo-kinder
 -und-dressurreiten
END:VEVENT
END:VCALENDAR